Workbook

Sheet Лист1
A1: Школа | C1: МОУ Лицей №2 | F1: Утвердил: | G1: должность | H1: директор МОУ Лицей №2
A2: Типовое примерное меню приготавливаемых блюд | G2: фамилия | H2: О.В. Кузнецова
A3: Возрастная категория | E3: 7-11 лет | G3: дата | H3: 17 | I3: 8 | J3: 2026
H4: день | I4: месяц | J4: год
A5: Неделя | B5: День недели | C5: Прием пищи | D5: Раздел меню | E5: Блюда | F5: Вес блюда, г | G5: Белки | H5: Жиры | I5: Углеводы | J5: Калорийность | K5: № рецептуры | L5: Цена
A6: 1 | B6: 1 | C6: Завтрак | D6: гор.блюдо | E6: КАША МОЛОЧНАЯ ИЗ РИСА И ПШЕНА ДРУЖБА С МАСЛОМ | F6: 200 | G6: 4.18 | H6: 3.56 | I6: 22.76 | J6: 139.8 | K6: ТТК 103
D7: закуска | E7: Блинчики с молоком цельным сгущеным с сахаром | F7: 90 | G7: 8.49 | H7: 12.39 | I7: 30.41 | J7: 267.11 | K7: ТТК 387
D8: гор.напиток | E8: Чай с сахаром | F8: 200 | G8: 0.1 | H8: 0.03 | I8: 10.67 | J8: 42.57 | K8: ТТК 302
D9: хлеб | E9: Хлеб пшеничный 40 | F9: 40 | G9: 3.16 | H9: 0.4 | I9: 19.32 | J9: 94 | K9: ТТК 6 | L9: 135.14
D10: фрукты
D13: итого | F13: =SUM(F6:F12) -> 530 | G13: =SUM(G6:G12) -> 15.93 | H13: =SUM(H6:H12) -> 16.38 | I13: =SUM(I6:I12) -> 83.16 | J13: =SUM(J6:J12) -> 543.48 | L13: =SUM(L6:L12) -> 135.14
A14: =A6 -> 1 | B14: =B6 -> 1 | C14: Обед | D14: закуска | E14: Свекла с маслом | F14: 60 | G14: 0.84 | H14: 3.55 | I14: 4.98 | J14: 55.23 | K14: ТТК 543
D15: 1 блюдо | E15: Суп картофельный с бобовыми (горох) | F15: 200 | G15: 5.87 | H15: 8.21 | I15: 14.86 | J15: 156.81 | K15: ТТК 43
D16: 2 блюдо | E16: КОТЛЕТА ДОМАШНЯЯ | F16: 90 | G16: 9.83 | H16: 13.25 | I16: 12.2 | J16: 207.37 | K16: ТТК 896
D17: гарнир | E17: МАКАРОННЫЕ ИЗДЕЛИЯ ОТВАРНЫЕ | F17: 150 | G17: 5.56 | H17: 2.91 | I17: 25.87 | J17: 151.91 | K17: ТТК 129
D18: напиток | E18: Чай с сахаром каркаде | F18: 200 | G18: 0.01 | H18: 0 | I18: 10.71 | J18: 42.81 | K18: ТТК 241
D19: хлеб бел. | E19: Хлеб пшеничный 30 | F19: 30 | G19: 2.37 | H19: 0.3 | I19: 14.49 | J19: 70.5 | K19: ТТК 6
D20: хлеб черн. | E20: Хлеб пеклеванный 40 | F20: 40 | G20: 2.37 | H20: 0.47 | I20: 15.48 | J20: 76.44 | K20: ТТК 7 | L20: 135.14
D23: итого | F23: =SUM(F14:F22) -> 770 | G23: =SUM(G14:G22) -> 26.85 | H23: =SUM(H14:H22) -> 28.69 | I23: =SUM(I14:I22) -> 98.59 | J23: =SUM(J14:J22) -> 761.07 | L23: =SUM(L14:L22) -> 135.14
A24: =A6 -> 1 | B24: =B6 -> 1 | C24: Итого за день: | F24: =F13+F23 -> 1300 | G24: =G13+G23 -> 42.78 | H24: =H13+H23 -> 45.07 | I24: =I13+I23 -> 181.75 | J24: =J13+J23 -> 1304.55 | L24: =L13+L23 -> 270.28
A25: 1 | B25: 2 | C25: Завтрак | D25: гор.блюдо | E25: КОТЛЕТА ДОМАШНЯЯ | F25: 90 | G25: 9.83 | H25: 13.25 | I25: 12.2 | J25: 207.37 | K25: ТТК 896
D26: гор.блюдо | E26: МАКАРОННЫЕ ИЗДЕЛИЯ ОТВАРНЫЕ 160 | F26: 160 | G26: 5.94 | H26: 3.02 | I26: 28.13 | J26: 163.46 | K26: ТТК 129
D27: гор.напиток | E27: Чай с сахаром и лимоном | F27: 200 | G27: 0.15 | H27: 0.04 | I27: 10.82 | J27: 44.22 | K27: ТТК 301
D28: хлеб | E28: Хлеб пшеничный 50 | F28: 50 | G28: 3.83 | H28: 0.49 | I28: 23.43 | J28: 113.98 | K28: ТТК 6 | L28: 135.14
D29: фрукты
D32: итого | F32: =SUM(F25:F31) -> 500 | G32: =SUM(G25:G31) -> 19.75 | H32: =SUM(H25:H31) -> 16.8 | I32: =SUM(I25:I31) -> 74.58 | J32: =SUM(J25:J31) -> 529.03 | L32: =SUM(L25:L31) -> 135.14
A33: =A25 -> 1 | B33: =B25 -> 2 | C33: Обед | D33: закуска | E33: Огурец свежий 60 | F33: 60 | G33: 0.78 | H33: 0.1 | I33: 1.66 | J33: 12.65 | K33: ТТК 1
D34: 1 блюдо | E34: Щи из свежей капусты с картофелем | F34: 200 | G34: 2.55 | H34: 7.92 | I34: 10.45 | J34: 123.28 | K34: ТТК 47
D35: 2 блюдо | E35: ЖАРКОЕ ПО-ДЕРЕВЕНСКИ | F35: 150 | G35: 12.1 | H35: 10.27 | I35: 18.51 | J35: 214.87 | K35: ТТК 48
D36: гарнир
D37: напиток | E37: Чай с сахаром | F37: 200 | G37: 0.1 | H37: 0.03 | I37: 10.67 | J37: 42.57 | K37: ТТК 302
D38: хлеб бел. | E38: Хлеб пшеничный 60 | F38: 60 | G38: 4.74 | H38: 0.6 | I38: 28.98 | J38: 141 | K38: ТТК 6
D39: хлеб черн. | E39: Хлеб пеклеванный 60 | F39: 60 | G39: 3.66 | H39: 0.72 | I39: 23.94 | J39: 118.2 | K39: ТТК 7 | L39: 135.14
D40: конд.изделие | E40: Печенье | F40: 20 | G40: 1.16 | H40: 3.69 | I40: 8.38 | J40: 71.37 | K40: ТТК 473
D42: итого | F42: =SUM(F33:F41) -> 750 | G42: =SUM(G33:G41) -> 25.09 | H42: =SUM(H33:H41) -> 23.33 | I42: =SUM(I33:I41) -> 102.59 | J42: =SUM(J33:J41) -> 723.94 | L42: =SUM(L33:L41) -> 135.14
A43: =A25 -> 1 | B43: =B25 -> 2 | C43: Итого за день: | F43: =F32+F42 -> 1250 | G43: =G32+G42 -> 44.84 | H43: =H32+H42 -> 40.13 | I43: =I32+I42 -> 177.17 | J43: =J32+J42 -> 1252.97 | L43: =L32+L42 -> 270.28
A44: 1 | B44: 3 | C44: Завтрак | D44: гор.блюдо | E44: Плов из птицы | F44: 150 | G44: 13 | H44: 14.64 | I44: 31.57 | J44: 310.04 | K44: ТТК 67
D45: закуска | E45: Огурец свежий 100 | F45: 100 | G45: 0.78 | H45: 0.1 | I45: 1.66 | J45: 12.65 | K45: ТТК 1
D46: гор.напиток | E46: Чай с сахаром каркаде | F46: 200 | G46: 0.01 | H46: 0 | I46: 10.71 | J46: 42.81 | K46: ТТК 241
D47: хлеб | E47: Хлеб пшеничный 50 | F47: 50 | G47: 3.83 | H47: 0.49 | I47: 23.43 | J47: 113.98 | K47: ТТК 6 | L47: 135.14
...
