Workbook

Sheet Лист1
A1: Школа | C1: МОУ Лицей №2 | F1: Утвердил: | G1: должность | H1: директор МОУ Лицей №2
A2: Типовое примерное меню приготавливаемых блюд | G2: фамилия | H2: О.В. Кузнецова
A3: Возрастная категория | E3: 7-11 лет | G3: дата | H3: 17 | I3: 8 | J3: 2026
H4: день | I4: месяц | J4: год
A5: Неделя | B5: День недели | C5: Прием пищи | D5: Раздел меню | E5: Блюда | F5: Вес блюда, г | G5: Белки | H5: Жиры | I5: Углеводы | J5: Калорийность | K5: № рецептуры | L5: Цена
A6: 1 | B6: 1 | C6: Завтрак | D6: гор.блюдо | E6: КАША МОЛОЧНАЯ ИЗ РИСА И ПШЕНА ДРУЖБА С МАСЛОМ | F6: 200 | G6: 4.18 | H6: 3.56 | I6: 22.76 | J6: 139.8 | K6: ТТК 103
D7: закуска | E7: Блинчики с молоком цельным сгущеным с сахаром | F7: 90 | G7: 8.49 | H7: 12.39 | I7: 30.41 | J7: 267.11 | K7: ТТК 387
D8: гор.напиток | E8: Чай с сахаром | F8: 200 | G8: 0.1 | H8: 0.03 | I8: 10.67 | J8: 42.57 | K8: ТТК 302
D9: хлеб | E9: Хлеб пшеничный 40 | F9: 40 | G9: 3.16 | H9: 0.4 | I9: 19.32 | J9: 94 | K9: ТТК 6 | L9: 135.14
D10: фрукты
D13: итого | F13: =SUM(F6:F12) -> 530 | G13: =SUM(G6:G12) -> 15.93 | H13: =SUM(H6:H12) -> 16.38 | I13: =SUM(I6:I12) -> 83.16 | J13: =SUM(J6:J12) -> 543.48 | L13: =SUM(L6:L12) -> 135.14
A14: =A6 -> 1 | B14: =B6 -> 1 | C14: Обед | D14: закуска | E14: Свекла с маслом | F14: 60 | G14: 0.84 | H14: 3.55 | I14: 4.98 | J14: 55.23 | K14: ТТК 543
D15: 1 блюдо | E15: Суп картофельный с бобовыми (горох) | F15: 200 | G15: 5.87 | H15: 8.21 | I15: 14.86 | J15: 156.81 | K15: ТТК 43
D16: 2 блюдо | E16: КОТЛЕТА ДОМАШНЯЯ | F16: 90 | G16: 9.83 | H16: 13.25 | I16: 12.2 | J16: 207.37 | K16: ТТК 896
D17: гарнир | E17: МАКАРОННЫЕ ИЗДЕЛИЯ ОТВАРНЫЕ | F17: 150 | G17: 5.56 | H17: 2.91 | I17: 25.87 | J17: 151.91 | K17: ТТК 129
D18: напиток | E18: Чай с сахаром каркаде | F18: 200 | G18: 0.01 | H18: 0 | I18: 10.71 | J18: 42.81 | K18: ТТК 241
D19: хлеб бел. | E19: Хлеб пшеничный 30 | F19: 30 | G19: 2.37 | H19: 0.3 | I19: 14.49 | J19: 70.5 | K19: ТТК 6
D20: хлеб черн. | E20: Хлеб пеклеванный 40 | F20: 40 | G20: 2.37 | H20: 0.47 | I20: 15.48 | J20: 76.44 | K20: ТТК 7 | L20: 135.14
D23: итого | F23: =SUM(F14:F22) -> 770 | G23: =SUM(G14:G22) -> 26.85 | H23: =SUM(H14:H22) -> 28.69 | I23: =SUM(I14:I22) -> 98.59 | J23: =SUM(J14:J22) -> 761.07 | L23: =SUM(L14:L22) -> 135.14
A24: =A6 -> 1 | B24: =B6 -> 1 | C24: Итого за день: | F24: =F13+F23 -> 1300 | G24: =G13+G23 -> 42.78 | H24: =H13+H23 -> 45.07 | I24: =I13+I23 -> 181.75 | J24: =J13+J23 -> 1304.55 | L24: =L13+L23 -> 270.28
A25: 1 | B25: 2 | C25: Завтрак | D25: гор.блюдо | E25: КОТЛЕТА ДОМАШНЯЯ | F25: 90 | G25: 9.83 | H25: 13.25 | I25: 12.2 | J25: 207.37 | K25: ТТК 896
D26: гор.блюдо | E26: МАКАРОННЫЕ ИЗДЕЛИЯ ОТВАРНЫЕ 160 | F26: 160 | G26: 5.94 | H26: 3.02 | I26: 28.13 | J26: 163.46 | K26: ТТК 129
D27: гор.напиток | E27: Чай с сахаром и лимоном | F27: 200 | G27: 0.15 | H27: 0.04 | I27: 10.82 | J27: 44.22 | K27: ТТК 301
D28: хлеб | E28: Хлеб пшеничный 50 | F28: 50 | G28: 3.83 | H28: 0.49 | I28: 23.43 | J28: 113.98 | K28: ТТК 6 | L28: 135.14
D29: фрукты
D32: итого | F32: =SUM(F25:F31) -> 500 | G32: =SUM(G25:G31) -> 19.75 | H32: =SUM(H25:H31) -> 16.8 | I32: =SUM(I25:I31) -> 74.58 | J32: =SUM(J25:J31) -> 529.03 | L32: =SUM(L25:L31) -> 135.14
A33: =A25 -> 1 | B33: =B25 -> 2 | C33: Обед | D33: закуска | E33: Огурец свежий 60 | F33: 60 | G33: 0.78 | H33: 0.1 | I33: 1.66 | J33: 12.65 | K33: ТТК 1
D34: 1 блюдо | E34: Щи из свежей капусты с картофелем | F34: 200 | G34: 2.55 | H34: 7.92 | I34: 10.45 | J34: 123.28 | K34: ТТК 47
D35: 2 блюдо | E35: ЖАРКОЕ ПО-ДЕРЕВЕНСКИ | F35: 150 | G35: 12.1 | H35: 10.27 | I35: 18.51 | J35: 214.87 | K35: ТТК 48
D36: гарнир
D37: напиток | E37: Чай с сахаром | F37: 200 | G37: 0.1 | H37: 0.03 | I37: 10.67 | J37: 42.57 | K37: ТТК 302
D38: хлеб бел. | E38: Хлеб пшеничный 60 | F38: 60 | G38: 4.74 | H38: 0.6 | I38: 28.98 | J38: 141 | K38: ТТК 6
D39: хлеб черн. | E39: Хлеб пеклеванный 60 | F39: 60 | G39: 3.66 | H39: 0.72 | I39: 23.94 | J39: 118.2 | K39: ТТК 7 | L39: 135.14
D40: конд.изделие | E40: Печенье | F40: 20 | G40: 1.16 | H40: 3.69 | I40: 8.38 | J40: 71.37 | K40: ТТК 473
D42: итого | F42: =SUM(F33:F41) -> 750 | G42: =SUM(G33:G41) -> 25.09 | H42: =SUM(H33:H41) -> 23.33 | I42: =SUM(I33:I41) -> 102.59 | J42: =SUM(J33:J41) -> 723.94 | L42: =SUM(L33:L41) -> 135.14
A43: =A25 -> 1 | B43: =B25 -> 2 | C43: Итого за день: | F43: =F32+F42 -> 1250 | G43: =G32+G42 -> 44.84 | H43: =H32+H42 -> 40.13 | I43: =I32+I42 -> 177.17 | J43: =J32+J42 -> 1252.97 | L43: =L32+L42 -> 270.28
A44: 1 | B44: 3 | C44: Завтрак | D44: гор.блюдо | E44: Плов из птицы | F44: 150 | G44: 13 | H44: 14.64 | I44: 31.57 | J44: 310.04 | K44: ТТК 67
D45: закуска | E45: Огурец свежий 100 | F45: 100 | G45: 0.78 | H45: 0.1 | I45: 1.66 | J45: 12.65 | K45: ТТК 1
D46: гор.напиток | E46: Чай с сахаром каркаде | F46: 200 | G46: 0.01 | H46: 0 | I46: 10.71 | J46: 42.81 | K46: ТТК 241
D47: хлеб | E47: Хлеб пшеничный 50 | F47: 50 | G47: 3.83 | H47: 0.49 | I47: 23.43 | J47: 113.98 | K47: ТТК 6 | L47: 135.14
D48: фрукты
D51: итого | F51: =SUM(F44:F50) -> 500 | G51: =SUM(G44:G50) -> 17.62 | H51: =SUM(H44:H50) -> 15.23 | I51: =SUM(I44:I50) -> 67.37 | J51: =SUM(J44:J50) -> 479.48 | L51: =SUM(L44:L50) -> 135.14
A52: =A44 -> 1 | B52: =B44 -> 3 | C52: Обед | D52: закуска | E52: Помидор свежий 60 | F52: 60 | G52: 0.64 | H52: 0 | I52: 1.4 | J52: 8.15 | K52: ТТК 2
D53: 1 блюдо | E53: СУП С КРУПОЙ (рисовая) | F53: 200 | G53: 2.76 | H53: 9.84 | I53: 8.89 | J53: 135.16 | K53: ТТК 44
D54: 2 блюдо | E54: Гречка по-купечески с филе куриным | F54: 150 | G54: 10.17 | H54: 11.92 | I54: 24.42 | J54: 245.64 | K54: ТТК 468
D55: гарнир
D56: напиток | E56: Чай с сахаром и лимоном | F56: 200 | G56: 0.15 | H56: 0.04 | I56: 10.82 | J56: 44.22 | K56: ТТК 301
D57: хлеб бел. | E57: Хлеб пшеничный 60 | F57: 60 | G57: 4.74 | H57: 0.6 | I57: 28.98 | J57: 141 | K57: ТТК 6
D58: хлеб черн. | E58: Хлеб пеклеванный 60 | F58: 60 | G58: 3.66 | H58: 0.72 | I58: 23.94 | J58: 118.2 | K58: ТТК 7 | L58: 135.14
D61: итого | F61: =SUM(F52:F60) -> 730 | G61: =SUM(G52:G60) -> 22.12 | H61: =SUM(H52:H60) -> 23.12 | I61: =SUM(I52:I60) -> 98.45 | J61: =SUM(J52:J60) -> 692.37 | L61: =SUM(L52:L60) -> 135.14
A62: =A44 -> 1 | B62: =B44 -> 3 | C62: Итого за день: | F62: =F51+F61 -> 1230 | G62: =G51+G61 -> 39.74 | H62: =H51+H61 -> 38.35 | I62: =I51+I61 -> 165.82 | J62: =J51+J61 -> 1171.85 | L62: =L51+L61 -> 270.28
A63: 1 | B63: 4 | C63: Завтрак | D63: гор.блюдо | E63: Каша гречневая молочная с маслом | F63: 200 | G63: 9.36 | H63: 11.39 | I63: 26.14 | J63: 244.51 | K63: ТТК 515
D64: закуска
D65: гор.напиток | E65: Чай с сахаром | F65: 200 | G65: 0.1 | H65: 0.03 | I65: 10.67 | J65: 42.57 | K65: ТТК 302
D66: хлеб | E66: Хлеб пшеничный 50 | F66: 50 | G66: 3.83 | H66: 0.49 | I66: 23.43 | J66: 113.98 | K66: ТТК 6 | L66: 135.14
D67: фрукты | E67: Фрукты свежие (яблоко) | F67: 180 | G67: 0.7 | H67: 0.7 | I67: 17.11 | J67: 82.06 | K67: 338
D68: конд.изделие | E68: Печенье | F68: 20 | G68: 1.16 | H68: 3.69 | I68: 8.38 | J68: 71.37 | K68: ТТК 473
D70: итого | F70: =SUM(F63:F69) -> 650 | G70: =SUM(G63:G69) -> 15.15 | H70: =SUM(H63:H69) -> 16.3 | I70: =SUM(I63:I69) -> 85.73 | J70: =SUM(J63:J69) -> 554.49 | L70: =SUM(L63:L69) -> 135.14
A71: =A63 -> 1 | B71: =B63 -> 4 | C71: Обед | D71: закуска | E71: Свекла с маслом | F71: 60 | G71: 0.84 | H71: 3.55 | I71: 4.98 | J71: 55.23 | K71: ТТК 543
D72: 1 блюдо | E72: Рассольник Ленинградский | F72: 200 | G72: 2.34 | H72: 5.05 | I72: 10.11 | J72: 95.25 | K72: ТТК 204
D73: 2 блюдо | E73: КОТЛЕТЫ РУБЛЕНЫЕ ИЗ ПТИЦЫ | F73: 90 | G73: 9.68 | H73: 12.93 | I73: 9.56 | J73: 193.33 | K73: ТТК 62
D74: гарнир | E74: МАКАРОННЫЕ ИЗДЕЛИЯ ОТВАРНЫЕ | F74: 150 | G74: 5.56 | H74: 2.91 | I74: 25.87 | J74: 151.91 | K74: ТТК 129
D75: напиток | E75: Чай с сахаром каркаде | F75: 200 | G75: 0.01 | H75: 0 | I75: 10.71 | J75: 42.81 | K75: ТТК 241
D76: хлеб бел. | E76: Хлеб пшеничный 60 | F76: 60 | G76: 4.74 | H76: 0.6 | I76: 28.98 | J76: 141 | K76: ТТК 6
D77: хлеб черн. | E77: Хлеб пеклеванный 30 | F77: 30 | G77: 1.78 | H77: 0.35 | I77: 11.61 | J77: 57.33 | K77: ТТК 7 | L77: 135.14
D80: итого | F80: =SUM(F71:F79) -> 790 | G80: =SUM(G71:G79) -> 24.95 | H80: =SUM(H71:H79) -> 25.39 | I80: =SUM(I71:I79) -> 101.82 | J80: =SUM(J71:J79) -> 736.86 | L80: =SUM(L71:L79) -> 135.14
A81: =A63 -> 1 | B81: =B63 -> 4 | C81: Итого за день: | F81: =F70+F80 -> 1440 | G81: =G70+G80 -> 40.1 | H81: =H70+H80 -> 41.69 | I81: =I70+I80 -> 187.55 | J81: =J70+J80 -> 1291.35 | L81: =L70+L80 -> 270.28
A82: 1 | B82: 5 | C82: Завтрак | D82: закуска | E82: Свекла отварная 100 | F82: 100 | G82: 1.46 | H82: 0.1 | I82: 8.54 | J82: 40.9 | K82: ТТК 5
D83: гор.блюдо | E83: Гречка по-купечески с филе куриным | F83: 150 | G83: 10.17 | H83: 11.92 | I83: 24.42 | J83: 245.64 | K83: ТТК 468
D84: гор.напиток | E84: Чай с сахаром и лимоном | F84: 200 | G84: 0.15 | H84: 0.04 | I84: 10.82 | J84: 44.22 | K84: ТТК 301
D85: хлеб | E85: Хлеб пшеничный 40 | F85: 40 | G85: 3.16 | H85: 0.4 | I85: 19.32 | J85: 94 | K85: ТТК 6 | L85: 135.14
D86: фрукты
D87: яйцо | E87: Омлет | F87: 60 | G87: 5.12 | H87: 7.51 | I87: 1.03 | J87: 92.19 | K87: ТТК 72
D89: итого | F89: =SUM(F82:F88) -> 550 | G89: =SUM(G82:G88) -> 20.06 | H89: =SUM(H82:H88) -> 19.97 | I89: =SUM(I82:I88) -> 64.13 | J89: =SUM(J82:J88) -> 516.95 | L89: =SUM(L82:L88) -> 135.14
A90: =A82 -> 1 | B90: =B82 -> 5 | C90: Обед | D90: закуска | E90: Помидор свежий 60 | F90: 60 | G90: 0.64 | H90: 0 | I90: 1.4 | J90: 8.15 | K90: ТТК 2
D91: 1 блюдо | E91: Щи из свежей капусты с картофелем | F91: 200 | G91: 2.55 | H91: 7.92 | I91: 10.45 | J91: 123.28 | K91: ТТК 47
D92: 2 блюдо | E92: Плов из птицы | F92: 150 | G92: 13 | H92: 14.64 | I92: 31.57 | J92: 310.04 | K92: ТТК 67
D93: гарнир
D94: напиток | E94: Чай с сахаром | F94: 200 | G94: 0.1 | H94: 0.03 | I94: 10.67 | J94: 42.57 | K94: ТТК 302
D95: хлеб бел. | E95: Хлеб пшеничный 50 | F95: 50 | G95: 3.83 | H95: 0.49 | I95: 23.43 | J95: 113.98 | K95: ТТК 6
D96: хлеб черн. | E96: Хлеб пеклеванный 50 | F96: 50 | G96: 2.96 | H96: 0.58 | I96: 19.35 | J96: 95.55 | K96: ТТК 7 | L96: 135.14
D99: итого | F99: =SUM(F90:F98) -> 710 | G99: =SUM(G90:G98) -> 23.08 | H99: =SUM(H90:H98) -> 23.66 | I99: =SUM(I90:I98) -> 96.87 | J99: =SUM(J90:J98) -> 693.57 | L99: =SUM(L90:L98) -> 135.14
A100: =A82 -> 1 | B100: =B82 -> 5 | C100: Итого за день: | F100: =F89+F99 -> 1260 | G100: =G89+G99 -> 43.14 | H100: =H89+H99 -> 43.63 | I100: =I89+I99 -> 161 | J100: =J89+J99 -> 1210.52 | L100: =L89+L99 -> 270.28
A101: 2 | B101: 1 | C101: Завтрак | D101: гор.блюдо | E101: КОТЛЕТЫ РУБЛЕНЫЕ ИЗ ПТИЦЫ | F101: =VLOOKUP(E101,[1]блюда!E:K,2,FALSE) -> 90 | G101: =VLOOKUP(E101,[1]блюда!E:K,3,FALSE) -> 9.68 | H101: =VLOOKUP(E101,[1]блюда!E:K,4,FALSE) -> 12.93 | I101: =VLOOKUP(E101,[1]блюда!E:K,5,FALSE) -> 9.56 | J101: =VLOOKUP(E101,[1]блюда!E:K,6,FALSE) -> 193.33 | K101: =VLOOKUP(E101,[1]блюда!E:K,7,FALSE) -> ТТК 62
D102: гор.блюдо | E102: МАКАРОННЫЕ ИЗДЕЛИЯ ОТВАРНЫЕ | F102: =VLOOKUP(E102,[1]блюда!E:K,2,FALSE) -> 150 | G102: =VLOOKUP(E102,[1]блюда!E:K,3,FALSE) -> 5.56 | H102: =VLOOKUP(E102,[1]блюда!E:K,4,FALSE) -> 2.91 | I102: =VLOOKUP(E102,[1]блюда!E:K,5,FALSE) -> 25.87 | J102: =VLOOKUP(E102,[1]блюда!E:K,6,FALSE) -> 151.91 | K102: =VLOOKUP(E102,[1]блюда!E:K,7,FALSE) -> ТТК 129
D103: гор.напиток | E103: Чай с сахаром | F103: =VLOOKUP(E103,[1]блюда!E:K,2,FALSE) -> 200 | G103: =VLOOKUP(E103,[1]блюда!E:K,3,FALSE) -> 0.1 | H103: =VLOOKUP(E103,[1]блюда!E:K,4,FALSE) -> 0.03 | I103: =VLOOKUP(E103,[1]блюда!E:K,5,FALSE) -> 10.67 | J103: =VLOOKUP(E103,[1]блюда!E:K,6,FALSE) -> 42.57 | K103: =VLOOKUP(E103,[1]блюда!E:K,7,FALSE) -> ТТК 302
D104: хлеб | E104: Хлеб пшеничный 60 | F104: =VLOOKUP(E104,[1]блюда!E:K,2,FALSE) -> 60 | G104: =VLOOKUP(E104,[1]блюда!E:K,3,FALSE) -> 4.74 | H104: =VLOOKUP(E104,[1]блюда!E:K,4,FALSE) -> 0.6 | I104: =VLOOKUP(E104,[1]блюда!E:K,5,FALSE) -> 28.98 | J104: =VLOOKUP(E104,[1]блюда!E:K,6,FALSE) -> 141 | K104: =VLOOKUP(E104,[1]блюда!E:K,7,FALSE) -> ТТК 6 | L104: 135.14
D105: фрукты
D108: итого | F108: =SUM(F101:F107) -> 500 | G108: =SUM(G101:G107) -> 20.08 | H108: =SUM(H101:H107) -> 16.47 | I108: =SUM(I101:I107) -> 75.08 | J108: =SUM(J101:J107) -> 528.81 | L108: =SUM(L101:L107) -> 135.14
A109: =A101 -> 2 | B109: =B101 -> 1 | C109: Обед | D109: закуска | E109: Помидор свежий 60 | F109: 60 | G109: 0.64 | H109: 0 | I109: 1.4 | J109: 8.15 | K109: ТТК 2
D110: 1 блюдо | E110: Борщ с капустой и картофелем | F110: =VLOOKUP(E110,[1]блюда!E:K,2,FALSE) -> 200 | G110: =VLOOKUP(E110,[1]блюда!E:K,3,FALSE) -> 1.2 | H110: =VLOOKUP(E110,[1]блюда!E:K,4,FALSE) -> 8.84 | I110: =VLOOKUP(E110,[1]блюда!E:K,5,FALSE) -> 8.44 | J110: =VLOOKUP(E110,[1]блюда!E:K,6,FALSE) -> 118.12 | K110: =VLOOKUP(E110,[1]блюда!E:K,7,FALSE) -> ТТК 28
D111: 2 блюдо | E111: Котлета рыбная (минтай) | F111: =VLOOKUP(E111,[1]блюда!E:K,2,FALSE) -> 90 | G111: =VLOOKUP(E111,[1]блюда!E:K,3,FALSE) -> 10.7 | H111: =VLOOKUP(E111,[1]блюда!E:K,4,FALSE) -> 9.18 | I111: =VLOOKUP(E111,[1]блюда!E:K,5,FALSE) -> 12.64 | J111: =VLOOKUP(E111,[1]блюда!E:K,6,FALSE) -> 175.98 | K111: =VLOOKUP(E111,[1]блюда!E:K,7,FALSE) -> ТТК 77
D112: гарнир | E112: Каша рисовая с овощами | F112: =VLOOKUP(E112,[1]блюда!E:K,2,FALSE) -> 150 | G112: =VLOOKUP(E112,[1]блюда!E:K,3,FALSE) -> 3.83 | H112: =VLOOKUP(E112,[1]блюда!E:K,4,FALSE) -> 4.23 | I112: =VLOOKUP(E112,[1]блюда!E:K,5,FALSE) -> 39.25 | J112: =VLOOKUP(E112,[1]блюда!E:K,6,FALSE) -> 210.46 | K112: =VLOOKUP(E112,[1]блюда!E:K,7,FALSE) -> ТТК 180
D113: напиток | E113: Чай с сахаром каркаде | F113: =VLOOKUP(E113,[1]блюда!E:K,2,FALSE) -> 200 | G113: =VLOOKUP(E113,[1]блюда!E:K,3,FALSE) -> 0.01 | H113: =VLOOKUP(E113,[1]блюда!E:K,4,FALSE) -> 0 | I113: =VLOOKUP(E113,[1]блюда!E:K,5,FALSE) -> 10.71 | J113: =VLOOKUP(E113,[1]блюда!E:K,6,FALSE) -> 42.81 | K113: =VLOOKUP(E113,[1]блюда!E:K,7,FALSE) -> ТТК 241
D114: хлеб бел. | E114: Хлеб пшеничный 30 | F114: =VLOOKUP(E114,[1]блюда!E:K,2,FALSE) -> 30 | G114: =VLOOKUP(E114,[1]блюда!E:K,3,FALSE) -> 2.37 | H114: =VLOOKUP(E114,[1]блюда!E:K,4,FALSE) -> 0.3 | I114: =VLOOKUP(E114,[1]блюда!E:K,5,FALSE) -> 14.49 | J114: =VLOOKUP(E114,[1]блюда!E:K,6,FALSE) -> 70.5 | K114: =VLOOKUP(E114,[1]блюда!E:K,7,FALSE) -> ТТК 6
D115: хлеб черн. | E115: Хлеб пеклеванный 40 | F115: =VLOOKUP(E115,[1]блюда!E:K,2,FALSE) -> 40 | G115: =VLOOKUP(E115,[1]блюда!E:K,3,FALSE) -> 2.37 | H115: =VLOOKUP(E115,[1]блюда!E:K,4,FALSE) -> 0.47 | I115: =VLOOKUP(E115,[1]блюда!E:K,5,FALSE) -> 15.48 | J115: =VLOOKUP(E115,[1]блюда!E:K,6,FALSE) -> 76.44 | K115: =VLOOKUP(E115,[1]блюда!E:K,7,FALSE) -> ТТК 7 | L115: 135.14
D116: напиток | E116: Сок/нектар в ассортименте | F116: =VLOOKUP(E116,[1]блюда!E:K,2,FALSE) -> 200 | G116: =VLOOKUP(E116,[1]блюда!E:K,3,FALSE) -> 0.97 | H116: =VLOOKUP(E116,[1]блюда!E:K,4,FALSE) -> 0.19 | I116: =VLOOKUP(E116,[1]блюда!E:K,5,FALSE) -> 19.59 | J116: =VLOOKUP(E116,[1]блюда!E:K,6,FALSE) -> 83.42 | K116: =VLOOKUP(E116,[1]блюда!E:K,7,FALSE) -> ТТК 343
D118: итого | F118: =SUM(F109:F117) -> 970 | G118: =SUM(G109:G117) -> 22.09 | H118: =SUM(H109:H117) -> 23.21 | I118: =SUM(I109:I117) -> 122 | J118: =SUM(J109:J117) -> 785.88 | L118: =SUM(L109:L117) -> 135.14
A119: =A101 -> 2 | B119: =B101 -> 1 | C119: Итого за день: | F119: =F108+F118 -> 1470 | G119: =G108+G118 -> 42.17 | H119: =H108+H118 -> 39.68 | I119: =I108+I118 -> 197.08 | J119: =J108+J118 -> 1314.69 | L119: =L108+L118 -> 270.28
A120: 2 | B120: 2 | C120: Завтрак | D120: гор.блюдо | E120: Каша молочная кукурузная с творогом | F120: 200 | G120: 6.84 | H120: 7.63 | I120: 30.28 | J120: 217.15 | K120: ТТК 653
...
